BEGIN:VCALENDAR
PRODID:-//UMBC//myUMBC 3.0//EN
METHOD:PUBLISH
BEGIN:VEVENT
UID:151635
DTSTAMP:20260426T015244Z
DTSTART:20260501T233000Z
DTEND:20260502T013000Z
TRANSP:OPAQUE
SUMMARY:User Agreement (Performance 1)
LOCATION:Black Box Theatre
DESCRIPTION:The UMBC Department of Theatre presents….     User Agreement    By Ben Holbrook   Directed by Sean DiGiorgio (’26)       May 1 – 3, 2026  UMBC Black Box Theatre     Performances:     Friday, May...

URL:https://dev.my.umbc.edu/events/151635
END:VEVENT
END:VCALENDAR