BEGIN:VCALENDAR
PRODID:-//UMBC//myUMBC 3.0//EN
METHOD:PUBLISH
BEGIN:VEVENT
UID:152290
DTSTAMP:20260421T181340Z
DTSTART:20261120T200000Z
DTEND:20261120T220000Z
TRANSP:OPAQUE
SUMMARY:Phlebotomy Workshop
LOCATION:Information Technology/Engineering : 231
DESCRIPTION:Curious about the intricacies of phlebotomy?     Join us on Friday, November 20th, from 3–5 PM in ITE 231 to learn how to manually draw blood using practice kits and insights from experienced...

URL:https://dev.my.umbc.edu/events/152290
END:VEVENT
END:VCALENDAR